BEGIN:VCALENDAR
VERSION:2.0
PRODID:-//SYSTEMS HEALTH® - ECPv6.10.1.1//NONSGML v1.0//EN
CALSCALE:GREGORIAN
METHOD:PUBLISH
X-ORIGINAL-URL:https://systemshealth.com
X-WR-CALDESC:Events for SYSTEMS HEALTH®
REFRESH-INTERVAL;VALUE=DURATION:PT1H
X-Robots-Tag:noindex
X-PUBLISHED-TTL:PT1H
BEGIN:VTIMEZONE
TZID:America/New_York
BEGIN:DAYLIGHT
TZOFFSETFROM:-0500
TZOFFSETTO:-0400
TZNAME:EDT
DTSTART:20260308T070000
END:DAYLIGHT
BEGIN:STANDARD
TZOFFSETFROM:-0400
TZOFFSETTO:-0500
TZNAME:EST
DTSTART:20261101T060000
END:STANDARD
END:VTIMEZONE
BEGIN:VEVENT
DTSTART;TZID=America/New_York:20260515T190000
DTEND;TZID=America/New_York:20260515T210000
DTSTAMP:20260419T184351
CREATED:20260402T103100Z
LAST-MODIFIED:20260418T072450Z
UID:3542-1778871600-1778878800@systemshealth.com
SUMMARY:INTRODUCTION to Systems Health® Tutorial with Dr.SHIVA® – May 15\, 2026 at 7 PM EST
DESCRIPTION:Registration for an INTRODUCTION to Systems Health® Tutorial with Dr.SHIVA® \nRSVP to ATTEND \nWe look forward to seeing you on Friday\, May 15\, at 7:00 PM EST via Zoom (the link will be sent to you after registration). \nAfter registering\, you will receive an email with a link to attend the meeting. If you do not see this email in INBOX\, please check your SPAM folder and move the email into your INBOX.
URL:https://systemshealth.com/event/introduction-to-systems-health-tutorial-with-dr-shiva-may-15-2026-at-7-pm-est/
ATTACH;FMTTYPE=image/png:https://systemshealth.com/wp-content/uploads/2026/04/SH-Tutorial-May-15-7-PM.png
END:VEVENT
BEGIN:VEVENT
DTSTART;TZID=America/New_York:20260529T080000
DTEND;TZID=America/New_York:20260531T160000
DTSTAMP:20260419T184351
CREATED:20260330T093649Z
LAST-MODIFIED:20260330T093649Z
UID:3532-1780041600-1780243200@systemshealth.com
SUMMARY:Dr.SHIVA® SYSTEMS HEALTH® LIVE COURSES\, May 29-31\, 2026
DESCRIPTION:THE SYSTEMS HEALTH® EDUCATIONAL TECHNOLOGY PROGRAM \nThe educational technology of Systems Health® consists of both Certification Programs and Live Courses\, which are taught by Dr.SHIVA® and his team of Systems Health® professionals. \nThe Live Courses provide Dr.SHIVA® Systems Anatomy\, Dr.SHIVA® Your Body Your System® and Dr.SHIVA® Your Business Your System™ education of Theory\, Laboratory\, and Practice\, respectively. \nJOIN Dr.SHIVA® LIVE COURSES
URL:https://systemshealth.com/event/dr-shiva-systems-health-live-courses-may-29-31-2026/
ATTACH;FMTTYPE=image/png:https://systemshealth.com/wp-content/uploads/2026/03/SH-Workshop-May-29-31-2026.png
END:VEVENT
END:VCALENDAR